BEGIN:VCALENDAR
VERSION:2.0
PRODID:-//Sanctum Sanctorium - ECPv6.15.20//NONSGML v1.0//EN
CALSCALE:GREGORIAN
METHOD:PUBLISH
X-ORIGINAL-URL:https://sanctum-sanctorium.co.uk
X-WR-CALDESC:Events for Sanctum Sanctorium
REFRESH-INTERVAL;VALUE=DURATION:PT1H
X-Robots-Tag:noindex
X-PUBLISHED-TTL:PT1H
BEGIN:VTIMEZONE
TZID:Europe/London
BEGIN:DAYLIGHT
TZOFFSETFROM:+0000
TZOFFSETTO:+0100
TZNAME:BST
DTSTART:20250330T010000
END:DAYLIGHT
BEGIN:STANDARD
TZOFFSETFROM:+0100
TZOFFSETTO:+0000
TZNAME:GMT
DTSTART:20251026T010000
END:STANDARD
BEGIN:DAYLIGHT
TZOFFSETFROM:+0000
TZOFFSETTO:+0100
TZNAME:BST
DTSTART:20260329T010000
END:DAYLIGHT
BEGIN:STANDARD
TZOFFSETFROM:+0100
TZOFFSETTO:+0000
TZNAME:GMT
DTSTART:20261025T010000
END:STANDARD
BEGIN:DAYLIGHT
TZOFFSETFROM:+0000
TZOFFSETTO:+0100
TZNAME:BST
DTSTART:20270328T010000
END:DAYLIGHT
BEGIN:STANDARD
TZOFFSETFROM:+0100
TZOFFSETTO:+0000
TZNAME:GMT
DTSTART:20271031T010000
END:STANDARD
END:VTIMEZONE
BEGIN:VEVENT
DTSTART;TZID=Europe/London:20260501T193000
DTEND;TZID=Europe/London:20260501T193000
DTSTAMP:20260422T140708
CREATED:20251024T003353Z
LAST-MODIFIED:20251024T003353Z
UID:9099-1777663800-1777663800@sanctum-sanctorium.co.uk
SUMMARY:SANCTUM SANCTORIUM THE DARKSIDE OF THE 80s 'LIVE' at  Esquires - Bedford
DESCRIPTION:Churches\, Caves & Castles Tour 2026
URL:https://sanctum-sanctorium.co.uk/gig/sanctum-sanctorium-the-darkside-of-the-80s-live-at-esquires-bedford/
LOCATION:Esquires\, 100 Esquire Road\, Bedford\, Bedfordshire\, MK40 1AA
END:VEVENT
BEGIN:VEVENT
DTSTART;TZID=Europe/London:20260503T193000
DTEND;TZID=Europe/London:20260503T193000
DTSTAMP:20260422T140708
CREATED:20251024T003353Z
LAST-MODIFIED:20251024T003353Z
UID:9100-1777836600-1777836600@sanctum-sanctorium.co.uk
SUMMARY:SANCTUM SANCTORIUM THE DARKSIDE OF THE 80s 'LIVE' at  The Royal - Whitby
DESCRIPTION:Churches\, Caves & Castles Tour 2026
URL:https://sanctum-sanctorium.co.uk/gig/sanctum-sanctorium-the-darkside-of-the-80s-live-at-the-royal-whitby/
LOCATION:The Royal\, 100 Royal Street\, Edinburgh\, Midlothian\, EH1 1AA
END:VEVENT
BEGIN:VEVENT
DTSTART;TZID=Europe/London:20260508T193000
DTEND;TZID=Europe/London:20260508T193000
DTSTAMP:20260422T140708
CREATED:20251024T003354Z
LAST-MODIFIED:20251024T003354Z
UID:9101-1778268600-1778268600@sanctum-sanctorium.co.uk
SUMMARY:SANCTUM SANCTORIUM THE DARKSIDE OF THE 80s 'LIVE' at  Sub 89 - Reading
DESCRIPTION:Churches\, Caves & Castles Tour 2026
URL:https://sanctum-sanctorium.co.uk/gig/sanctum-sanctorium-the-darkside-of-the-80s-live-at-sub-89-reading/
LOCATION:Sub 89\, 89 St Aldate's\, Oxford\, Oxfordshire\, OX1 1RA
END:VEVENT
BEGIN:VEVENT
DTSTART;TZID=Europe/London:20260509T193000
DTEND;TZID=Europe/London:20260509T193000
DTSTAMP:20260422T140708
CREATED:20251024T003354Z
LAST-MODIFIED:20251024T003354Z
UID:9102-1778355000-1778355000@sanctum-sanctorium.co.uk
SUMMARY:SANCTUM SANCTORIUM THE DARKSIDE OF THE 80s 'LIVE' at  1865 - Southampton
DESCRIPTION:Churches\, Caves & Castles Tour 2026
URL:https://sanctum-sanctorium.co.uk/gig/sanctum-sanctorium-the-darkside-of-the-80s-live-at-1865-southampton/
LOCATION:1865\, 221 St Mary's Street\, Southampton\, Hampshire\, SO14 1NS
END:VEVENT
BEGIN:VEVENT
DTSTART;TZID=Europe/London:20260516T193000
DTEND;TZID=Europe/London:20260516T193000
DTSTAMP:20260422T140708
CREATED:20251024T003535Z
LAST-MODIFIED:20251024T003535Z
UID:9104-1778959800-1778959800@sanctum-sanctorium.co.uk
SUMMARY:SANCTUM SANCTORIUM THE DARKSIDE OF THE 80s 'LIVE' at  The Limelight - Belfast
DESCRIPTION:Churches\, Caves & Castles Tour 2026
URL:https://sanctum-sanctorium.co.uk/gig/sanctum-sanctorium-the-darkside-of-the-80s-live-at-the-limelight-belfast/
LOCATION:Greater Manchester
END:VEVENT
BEGIN:VEVENT
DTSTART;TZID=Europe/London:20260529T193000
DTEND;TZID=Europe/London:20260529T193000
DTSTAMP:20260422T140708
CREATED:20251024T003536Z
LAST-MODIFIED:20251024T003536Z
UID:9106-1780083000-1780083000@sanctum-sanctorium.co.uk
SUMMARY:SANCTUM SANCTORIUM THE DARKSIDE OF THE 80s 'LIVE' at  The Exchange - Bristol
DESCRIPTION:Churches\, Caves & Castles Tour 2026
URL:https://sanctum-sanctorium.co.uk/gig/sanctum-sanctorium-the-darkside-of-the-80s-live-at-the-exchange-bristol/
LOCATION:Greater Manchester
END:VEVENT
BEGIN:VEVENT
DTSTART;TZID=Europe/London:20260530T193000
DTEND;TZID=Europe/London:20260530T193000
DTSTAMP:20260422T140708
CREATED:20251024T003536Z
LAST-MODIFIED:20251024T003536Z
UID:9107-1780169400-1780169400@sanctum-sanctorium.co.uk
SUMMARY:SANCTUM SANCTORIUM THE DARKSIDE OF THE 80s 'LIVE' at  The Acorn - Penzance
DESCRIPTION:Churches\, Caves & Castles Tour 2026
URL:https://sanctum-sanctorium.co.uk/gig/sanctum-sanctorium-the-darkside-of-the-80s-live-at-the-acorn-penzance/
LOCATION:The Acorn\, 100 Acorn Lane\, Coventry\, West Midlands\, CV1 1AA
END:VEVENT
BEGIN:VEVENT
DTSTART;TZID=Europe/London:20260620T193000
DTEND;TZID=Europe/London:20260620T193000
DTSTAMP:20260422T140708
CREATED:20251024T003635Z
LAST-MODIFIED:20251024T003635Z
UID:9108-1781983800-1781983800@sanctum-sanctorium.co.uk
SUMMARY:SANCTUM SANCTORIUM THE DARKSIDE OF THE 80s 'LIVE' at  The Waterfront - Norwich
DESCRIPTION:Churches\, Caves & Castles Tour 2026
URL:https://sanctum-sanctorium.co.uk/gig/sanctum-sanctorium-the-darkside-of-the-80s-live-at-the-waterfront-norwich/
LOCATION:Greater Manchester
END:VEVENT
BEGIN:VEVENT
DTSTART;TZID=Europe/London:20260821T193000
DTEND;TZID=Europe/London:20260821T193000
DTSTAMP:20260422T140708
CREATED:20251024T003635Z
LAST-MODIFIED:20251024T003635Z
UID:9109-1787340600-1787340600@sanctum-sanctorium.co.uk
SUMMARY:SANCTUM SANCTORIUM THE DARKSIDE OF THE 80s 'LIVE' at  The Giffard Gospel - Wolverhampton
DESCRIPTION:Churches\, Caves & Castles Tour 2026
URL:https://sanctum-sanctorium.co.uk/gig/sanctum-sanctorium-the-darkside-of-the-80s-live-at-the-giffard-gospel-wolverhampton/
LOCATION:Greater Manchester
END:VEVENT
BEGIN:VEVENT
DTSTART;TZID=Europe/London:20260822T143000
DTEND;TZID=Europe/London:20260822T235900
DTSTAMP:20260422T140708
CREATED:20251024T003635Z
LAST-MODIFIED:20251024T021025Z
UID:9110-1787409000-1787443140@sanctum-sanctorium.co.uk
SUMMARY:SANCTUM SANCTORIUM THE DARKSIDE OF THE 80s 'LIVE' at  DARKFEST - KK's Steel Mill - Wolverhampton
DESCRIPTION:Castles\, Caves and Churches Tour 2026
URL:https://sanctum-sanctorium.co.uk/gig/sanctum-sanctorium-the-darkside-of-the-80s-live-at-darkfest-kks-steel-mill-wolverhampton/
LOCATION:KK’s Steel Mill\, Star Works Warehouse\, Frederick Street\,\, Wolverhampton\, West Midlands\, WV2 4DU\, United Kingdom
ORGANIZER;CN="Mixture Ltd":MAILTO:john@easylamb.com
END:VEVENT
BEGIN:VEVENT
DTSTART;TZID=Europe/London:20260829T193000
DTEND;TZID=Europe/London:20260829T193000
DTSTAMP:20260422T140708
CREATED:20251024T003635Z
LAST-MODIFIED:20251024T003635Z
UID:9111-1788031800-1788031800@sanctum-sanctorium.co.uk
SUMMARY:SANCTUM SANCTORIUM THE DARKSIDE OF THE 80s 'LIVE' at  The Peak Cavern - Castleton
DESCRIPTION:Churches\, Caves & Castles Tour 2026
URL:https://sanctum-sanctorium.co.uk/gig/sanctum-sanctorium-the-darkside-of-the-80s-live-at-the-peak-cavern-castleton/
LOCATION:Greater Manchester
END:VEVENT
BEGIN:VEVENT
DTSTART;TZID=Europe/London:20260926T193000
DTEND;TZID=Europe/London:20260926T193000
DTSTAMP:20260422T140708
CREATED:20251024T003636Z
LAST-MODIFIED:20251024T003636Z
UID:9112-1790451000-1790451000@sanctum-sanctorium.co.uk
SUMMARY:SANCTUM SANCTORIUM THE DARKSIDE OF THE 80s 'LIVE' at  The Booking Hall - Dover
DESCRIPTION:Churches\, Caves & Castles Tour 2026
URL:https://sanctum-sanctorium.co.uk/gig/sanctum-sanctorium-the-darkside-of-the-80s-live-at-the-booking-hall-dover/
LOCATION:The booking Hall\, Station Approach\, Manchester\, Greater Manchester\, M3 4JQ
END:VEVENT
END:VCALENDAR